BEGIN:VCALENDAR
VERSION:2.0
PRODID:-//Unione Tributaristi Italiani - ECPv6.10.1.1//NONSGML v1.0//EN
CALSCALE:GREGORIAN
METHOD:PUBLISH
X-ORIGINAL-URL:https://unionetributaristi.it
X-WR-CALDESC:Eventi per Unione Tributaristi Italiani
REFRESH-INTERVAL;VALUE=DURATION:PT1H
X-Robots-Tag:noindex
X-PUBLISHED-TTL:PT1H
BEGIN:VTIMEZONE
TZID:Europe/Paris
BEGIN:DAYLIGHT
TZOFFSETFROM:+0100
TZOFFSETTO:+0200
TZNAME:CEST
DTSTART:20240331T010000
END:DAYLIGHT
BEGIN:STANDARD
TZOFFSETFROM:+0200
TZOFFSETTO:+0100
TZNAME:CET
DTSTART:20241027T010000
END:STANDARD
BEGIN:DAYLIGHT
TZOFFSETFROM:+0100
TZOFFSETTO:+0200
TZNAME:CEST
DTSTART:20250330T010000
END:DAYLIGHT
BEGIN:STANDARD
TZOFFSETFROM:+0200
TZOFFSETTO:+0100
TZNAME:CET
DTSTART:20251026T010000
END:STANDARD
BEGIN:DAYLIGHT
TZOFFSETFROM:+0100
TZOFFSETTO:+0200
TZNAME:CEST
DTSTART:20260329T010000
END:DAYLIGHT
BEGIN:STANDARD
TZOFFSETFROM:+0200
TZOFFSETTO:+0100
TZNAME:CET
DTSTART:20261025T010000
END:STANDARD
END:VTIMEZONE
BEGIN:VEVENT
DTSTART;TZID=Europe/Paris:20240712T100000
DTEND;TZID=Europe/Paris:20240712T133000
DTSTAMP:20260423T005555
CREATED:20240705T092007Z
LAST-MODIFIED:20240705T095053Z
UID:1684-1720778400-1720791000@unionetributaristi.it
SUMMARY:Riforma dello Sport per le ASD e Adempimenti obbligatori
DESCRIPTION:Si svolgerà il 12 luglio presso la Camera di Commercio di Rieti Viterbo\, il Convegno “Riforma dello Sport per le ASD e adempimenti obbligatori” organizzato da Comfimprese Viterbo e Uni.T.I. \nUn programma di lavori molto intenso che vedrà la partecipazione del dott. Giuseppe Cangemi\, Vice Presidente del Consiglio Regionale del Lazio\, del dott. Leopoldo Liberati\, Vice Sindaco di Tuscania e Vide Presidente di Uni.T.I.. \nSi farà il punto sulla Riforma dello Sport per le ASD e su come si sta integrando dalla sua entrata in vigore\, focalizzando l’attenzione sugli adempimenti obbligatori per i committenti nel mondo dilettantistico e in materia di tutela dei minori\, prevenzione del bullismo\, delle molestie e delle discriminazioni nel lavoro sportivo. \nInterverranno al dibattito\, moderato dal Rag. Gianfranco Piazzolla (Presidente Comfimprese Viterbo) e dal Rag. Mario Alberti (Segretario Comfimprese Viterbo):Dott. Riccardo Bizzarri\, Direttore Centro Studi Uni.T.I.\, Dott. Andrea Sebastiani\, Presidente Provinciale ASI Viterbo\, Dott. Lamberto Mattei\, Comfimprese Roma Capitale\, Dott.ssa Doriana Sannipola\, Comfimprese Umbria ed esperta di ETS\, Avv. Annunziata Staffieri\, Capo Processo Ispettorato territoriale del Lavoro di Viterbo\, Dott. Wladymiro Wysocki\, Responsabile del Dipartimento Sicurezza sul Lavoro UGL Lazio. \nL’evento ha ricevuto il Patrocinio di Giuffrè Francis Lefebvre\, Panathlon International e ASI Associazioni Sportive Sociali Italiane. \n			\n				\n				\n				\n				\n				L’evento è gratuito. Si prega di confermare la propria partecipazione inviando email a comunicazioni@unionetributaristi.it o telefonando al centralino unico 0776 1545696. \n			\n				\n				\n				\n				\n				I partecipanti all’evento che ne faranno richiesta\, otterranno 3 Crediti Formativi. \n			\n				Dettagli evento
URL:https://unionetributaristi.it/evento/riforma-dello-sport-per-le-asd-e-adempimenti-obbligatori/
LOCATION:Camera di Commercio di Viterbo\, Via Fratelli Rosselli\, 4\, Viterbo\, 01100\, Italia
CATEGORIES:Convegno
ATTACH;FMTTYPE=image/jpeg:https://unionetributaristi.it/J2022/wp-content/uploads/2024/07/convegno-confimprese-viterbo.jpg
END:VEVENT
BEGIN:VEVENT
DTSTART;TZID=Europe/Paris:20241003T110000
DTEND;TZID=Europe/Paris:20241003T133000
DTSTAMP:20260423T005556
CREATED:20240923T071533Z
LAST-MODIFIED:20240927T081740Z
UID:1715-1727953200-1727962200@unionetributaristi.it
SUMMARY:CPB: Primo anno di applicazione e ultime novità
DESCRIPTION:Il Convegno “CPB: Primo anno di applicazione e ultime novità” si terrà il 3 ottobre 2024 dalle ore 10:00 alle 12:30 presso la Sala Salvadori del Palazzo dei Gruppi\, Camera dei Deputati\, in Via Uffici del Vicario 21\, Roma. \nDurante il convegno\, esponenti di spicco del settore tributario analizzeranno il primo anno di applicazione del Concordato Preventivo Biennale (CPB) e le recenti modifiche normative. L’evento offrirà ai professionisti un’occasione unica per approfondire le tematiche legate al CPB\, fornendo chiarimenti e aggiornamenti fondamentali per la loro pratica quotidiana. \nSaluti e introduzione: On. Laura CavandoliRelatori:Antonio Gigliotti\, Direttore di Fiscal FocusProf. Andrea Carinci (Università di Bologna) Dott. Angelo Deiana (Presidente CONFASSOCIAZIONI)Dott. Riccardo Bizzarri\, Dottore Commercialista e Coordinatore Centro Studi UNI.T.I.Dott. Simone Germani\, Presidente UNI.T.I. \nL’evento prevede l’assegnazione di 2 crediti formativi per i partecipanti che ne faranno richiesta. \n			\n				\n				\n				\n				\n				L’evento è gratuito. L’evento si svolge presso la Camera dei Deputati. Per agevolare la procedura di iscrizione\, si prega di confermare la propria partecipazione inviando email con Nome\, Cognome\, Data e Luogo di Nascita\, Residenza a comunicazioni@unionetributaristi.it o telefonando al centralino unico 0776 1545696. \n			\n				\n				\n				\n				\n				I partecipanti all’evento che ne faranno richiesta\, otterranno 2 Crediti Formativi. \n			\n				Dettagli evento
URL:https://unionetributaristi.it/evento/cpb-primo-anno-di-applicazione-e-ultime-novita/
LOCATION:Palazzo dei Gruppi Camera dei Deputati / Sala Salvadori\, Via Uffici del Vicario\, 21\, Roma\, 00186\, Italia
CATEGORIES:Convegno
ATTACH;FMTTYPE=image/jpeg:https://unionetributaristi.it/J2022/wp-content/uploads/2024/09/Copertina-3-10.jpg
END:VEVENT
BEGIN:VEVENT
DTSTART;TZID=Europe/Paris:20241129T160000
DTEND;TZID=Europe/Paris:20241129T190000
DTSTAMP:20260423T005556
CREATED:20241030T111311Z
LAST-MODIFIED:20241128T124401Z
UID:1813-1732896000-1732906800@unionetributaristi.it
SUMMARY:Decreto sanzioni
DESCRIPTION:La tavola rotonda “Decreto sanzioni: dalla falsa fatturazione al processo penale tributario” organizzata da UNI.T.I. si terrà il 29 novembre 2024 all’Hotel Villa Ducale di Parma. \nL’evento\, accreditato dall’Ordine degli Avvocati di Parma\, vedrà i saluti istituzionali del Presidente di Uni.T.I.\, Dr. Simone Germani e la moderazione del Dr. Comm. Riccardo Bizzarri. Verranno approfondite le recenti modifiche introdotte dal D.Lgs n. 87 del 14.06.24\, con interventi di esperti in ambito tributario e legale. Temi trattati includeranno la falsa fatturazione\, il doppio binario del processo penale tributario e il sequestro preventivo. \nInterverranno:Dr.ssa Elisa Artosi (Segretario Nazionale UNI.T.I.) \nDr.ssa Margherita Solimando(Maggiore della Guardia di Finanza)Le investigazioni della Guardia di Finanza in tema di frodi fiscali: le differenti connotazioni delle false fatturazioni \nDr. Claudio Galdi (Capo Ufficio Imprese Medie – Direzione Regionale – Agenzia delle Entrate)Falsa fatturazione dall’emissione del PVC all’avviso di accertamento \nAvv. Alfredo Salzano (Avvocato del Foro di Salerno)Il ne bis in idem nei rapporti tra processo penale e processo tributario \nAvv. Giuseppe Rosafio (Consigliere della Camera Penale di Parma\, Avvocato del Foro di Parma)Sequestro e confisca diretta e per equivalente. Pagamento del debito tributario ed effetti sui reati tributari \nAvv. Jacopo Buriani (Avvocato del Foro di Ferrara)Onere della Prova e Responsabilità del Commercialista/Tributarista e dell’utilizzatore \nL’evento prevede l’assegnazione di 3 crediti formativi (anche dall’Ordine degli Avvocati di Parma) per i partecipanti che ne faranno richiesta. \n			\n				\n				\n				\n				\n				L’evento è gratuito. Per agevolare la procedura di iscrizione\, si prega di confermare la propria partecipazione inviando email con Nome e Cognome a comunicazioni@unionetributaristi.it o telefonando al centralino unico 0776 1545696. \n			\n				\n				\n				\n				\n				I partecipanti all’evento che ne faranno richiesta\, otterranno 3 Crediti Formativi. \n			\n				Dettagli evento
URL:https://unionetributaristi.it/evento/decreto-sanzioni/
LOCATION:Hotel Villa Ducale\, Via del Popolo\, 35\, Parma\, 43122\, Italia
CATEGORIES:Convegno
ATTACH;FMTTYPE=image/jpeg:https://unionetributaristi.it/J2022/wp-content/uploads/2024/10/29-11-parma.jpg
END:VEVENT
BEGIN:VEVENT
DTSTART;TZID=Europe/Paris:20241219T103000
DTEND;TZID=Europe/Paris:20241219T133000
DTSTAMP:20260423T005556
CREATED:20241030T091831Z
LAST-MODIFIED:20241216T115437Z
UID:1805-1734604200-1734615000@unionetributaristi.it
SUMMARY:Incontro annuale Uni.T.I.
DESCRIPTION:L’Incontro Annuale 2024 di UNI.T.I. (Unione Tributaristi Italiani) si terrà il 19 dicembre al Centro Congressi Cavour a Roma. \nSarà un’opportunità per fare il punto sulle attività svolte durante l’anno\, celebrare i traguardi raggiunti e delineare gli obiettivi per il 2025. L’incontro offrirà uno spazio di confronto e riflessione sulle sfide del settore tributario\, con un’attenzione particolare alle nuove iniziative dell’associazione previste per l’anno 2025. L’evento darà diritto a 2 crediti deontologici\, con i saluti introduttivi del Dott. Simone Germani\, Presidente Nazionale di UNI.T.I.. A seguire l’intervento di Roberta Ugolotti e Davide Savioli sul Regolamento Formazione di Uni.T.I.. Seguirà una sessione di Domande e Risposte con tutti gli associati presenti. \n			\n				\n				\n				\n				\n				L’evento è gratuito. Per agevolare la procedura di iscrizione\, si prega di confermare la propria partecipazione inviando email con Nome e Cognome a comunicazioni@unionetributaristi.it o telefonando al centralino unico 0776 1545696. \n			\n				\n				\n				\n				\n				I partecipanti all’evento che ne faranno richiesta\, otterranno 2 Crediti Deontologici. \n			\n				Dettagli evento
URL:https://unionetributaristi.it/evento/incontro-annuale-uni-t-i/
LOCATION:Centro Congressi Cavour\, Via Cavour\, 50A\, Roma\, Italia
CATEGORIES:Convegno
ATTACH;FMTTYPE=image/jpeg:https://unionetributaristi.it/J2022/wp-content/uploads/2024/10/Copertina-Post-Social.jpg
END:VEVENT
BEGIN:VEVENT
DTSTART;TZID=Europe/Paris:20250523T100000
DTEND;TZID=Europe/Paris:20250523T123000
DTSTAMP:20260423T005556
CREATED:20250506T095658Z
LAST-MODIFIED:20250522T103346Z
UID:2280-1747994400-1748003400@unionetributaristi.it
SUMMARY:Lavoro Digitale e Salute negli Studi Professionali
DESCRIPTION:L’Unione dei Tributaristi Italiani (Uni.T.I.)\, in collaborazione con INAIL\, invita tutti gli associati al convegno “Lavoro Digitale e Salute negli Studi Professionali”\, che si terrà a Roma\, venerdì 23 maggio 2025 alle ore 10:00\, presso la sede SEAC CEFOR – Via Parigi 11. \nIn un contesto professionale sempre più digitalizzato\, il convegno affronterà il delicato equilibrio tra innovazione tecnologica e tutela della salute nei luoghi di lavoro. Verranno analizzati i rischi psicosociali emergenti – come tecnostress\, sovraccarico cognitivo\, assottigliamento dei confini tra vita privata e professionale – e le strategie per promuovere benessere organizzativo e sicurezza. \nUn’occasione unica di confronto tra professionisti\, esperti del settore e ricercatori\, per comprendere come affrontare consapevolmente le nuove sfide del lavoro digitale. \nIntervengono: \nDr. Simone GermaniPresidente Uni.T.I. \nDr.ssa Benedetta PersechinoI° Ricercatore | Responsabile laboratorio rischi psicosociali e tutela dei lavoratori vulnerabili\, Dipartimento medicina\, epidemiologia\, igiene del lavoro e ambientale (Dimeila)\, INAIL \nNoemi CompagnoneConsulente\, formatore\, auditor QHSE | RSPP | Referente UNI.T.I. per rapporti con INAIL“Sicurezza e salute sul lavoro: rischi e opportunità nel nuovo contesto digitale” \nDr. Matteo RonchettiPsicologo del lavoro | Ricercatore Dipartimento medicina\, epidemiologia\, igiene del lavoro e ambientale (Dimeila)\, INAIL“Digitalizzazione dei processi lavorativi e rischi psicosociali: impatti sulla salute e sull’organizzazione del lavoro\, implicazioni pratiche per la loro valutazione e gestione” \nDr.ssa Paola SannaDirettrice Scientifica Area Lavoro SEAC CEFOR. \n— \nDove: SEAC CEFOR\, Via Parigi 11\, RomaQuando: Venerdì 23 maggio 2025\, ore 10:00 \nPartecipazione gratuita su prenotazione. Posti limitati. Non mancare. \n			\n				\n				\n				\n				\n				L’evento è gratuito. Per agevolare la procedura di iscrizione\, si prega di confermare la propria partecipazione inviando email con Nome e Cognome a comunicazioni@unionetributaristi.it o telefonando al centralino unico 0776 1545696. \n			\n				\n				\n				\n				\n				I partecipanti all’evento che ne faranno richiesta\, otterranno 2 Crediti Formativi e 1 Credito Deontologico. \n			\n				Dettagli evento
URL:https://unionetributaristi.it/evento/lavoro-digitale-e-salute-negli-studi-professionali/
LOCATION:Sede SEAC CEFOR\, Via Parigi\, 11\, Roma\, Italy
CATEGORIES:Convegno
ATTACH;FMTTYPE=image/jpeg:https://unionetributaristi.it/J2022/wp-content/uploads/2025/05/23Mag_Copertina_Uniti-scaled.jpg
END:VEVENT
BEGIN:VEVENT
DTSTART;TZID=Europe/Paris:20251010T090000
DTEND;TZID=Europe/Paris:20251010T130000
DTSTAMP:20260423T005556
CREATED:20250908T091112Z
LAST-MODIFIED:20251015T092010Z
UID:2361-1760086800-1760101200@unionetributaristi.it
SUMMARY:Intelligenza Artificiale per studi professionali. Come sfruttarla partendo da zero
DESCRIPTION:L’Unione Tributaristi Italiani organizza un evento formativo gratuito il 10 ottobre 2025\, dalle 9:00 alle 13:00\, presso la prestigiosa Sala Regia di Palazzo Priori a Viterbo\, dedicato all’applicazione concreta dell’intelligenza artificiale all’interno degli studi professionali. \nUn’occasione utile per avvocati\, consulenti del lavoro\, commercialisti e professionisti del settore per scoprire\, con un linguaggio accessibile e strumenti pratici\, come iniziare a usare l’AI per migliorare l’efficienza\, ridurre gli errori e innovare i processi operativi. \nTra i relatori:• Dott. Roberto Forte\, commercialista e revisore legale• Dott. Riccardo Bizzarri\, coordinatore del Centro Studi Uni.T.I. \nA moderare l’incontro sarà Andrea Saggini\, referente Uni.T.I. per la sede di Viterbo\, che guiderà i lavori e il dialogo tra i partecipanti. \nSono previsti anche gli interventi istituzionali di:• Dott.ssa Elisa Artosi\, Segretario Nazionale Uni.T.I.• Dott. Simone Germani\, Presidente Uni.T.I.• Avv. Luigi Sini\, Pres. Ordine Avvocati Viterbo • Dott.ssa Anna Calabrò\, Pres. Ordine CdL Viterbo \nL’evento è patrocinato dal Comune di Viterbo\, accreditato dall’Ordine degli Avvocati di Viterbo e dal Consiglio Provinciale dell’Ordine dei Consulenti del Lavoro di Viterbo\, e realizzato con il supporto di Unipol Viterbo. \n			\n				\n				\n				\n				\n				L’evento è gratuito. Per agevolare la procedura di iscrizione\, si prega di confermare la propria partecipazione inviando email con Nome e Cognome a comunicazioni@unionetributaristi.it o telefonando al centralino unico 0776 1545696. \n			\n				\n				\n				\n				\n				I partecipanti all’evento che ne faranno richiesta\, otterranno:Consulenti del Lavoro: 4 Crediti Formativi di cui 2 deontologici;Avvocati: 4 crediti deontologici. \n			\n				Dettagli evento
URL:https://unionetributaristi.it/evento/intelligenza-artificiale-per-studi-professionali-come-sfruttarla-partendo-da-zero/
LOCATION:Palazzo Priori\, Piazza del Plebiscito\, 14\, Viterbo\, VT\, 01100\, Italy
CATEGORIES:Convegno
ATTACH;FMTTYPE=image/jpeg:https://unionetributaristi.it/J2022/wp-content/uploads/2025/09/10OTT_Copertina_Uniti-scaled.jpg
END:VEVENT
BEGIN:VEVENT
DTSTART;TZID=Europe/Paris:20260227T093000
DTEND;TZID=Europe/Paris:20260227T130000
DTSTAMP:20260423T005556
CREATED:20260206T091422Z
LAST-MODIFIED:20260226T180441Z
UID:2474-1772184600-1772197200@unionetributaristi.it
SUMMARY:Novità dopo il Milleproroghe e nel mondo dello Sport e ETS
DESCRIPTION:Il 27 febbraio 2026 Uni.T.I. organizza un nuovo evento formativo dedicato alle novità introdotte dal Decreto Milleproroghe e alle ultime evoluzioni normative nel mondo dello Sport e del Terzo Settore (ETS).Un approfondimento essenziale per chi opera in questi ambiti\, con focus su adempimenti\, opportunità e criticità alla luce delle recenti modifiche legislative. \nRelatori:– Saluti istituzionali: Dott. Simone Germani\, Presidente Uni.T.I.– Dott. Riccardo Bizzarri\, Commercialista e Coordinatore Centro Studi Uni.T.I.– Noemi Compagnone\, Esperta Sicurezza e Referente INAIL per Uni.T.I. \nDove: in presenza presso la Sala in Via Lucina 16/a\, Roma e online nell’area riservata del sito web unionetributaristi.it. \nQuando: lunedì 27 febbraio 2026\, ore 9.30 \nCrediti formativi: 3 \n			\n				\n				\n				\n				\n				L’evento è gratuito. Per agevolare la procedura di iscrizione\, si prega di confermare la propria partecipazione inviando email con Nome e Cognome a comunicazioni@unionetributaristi.it o telefonando al centralino unico 0776 1545696. \n			\n				\n				\n				\n				\n				I partecipanti all’evento che ne faranno richiesta\, otterranno:3 Crediti Formativi. \n			\n				Dettagli evento
URL:https://unionetributaristi.it/evento/novita-dopo-il-milleproroghe-e-nel-mondo-dello-sport-e-ets/
LOCATION:Via Lucina\, 16A\, Via Lucina\, 16A\, Roma\, Italy
CATEGORIES:Convegno
ATTACH;FMTTYPE=image/png:https://unionetributaristi.it/J2022/wp-content/uploads/2026/02/Webinar-27-02-26-1.png
END:VEVENT
BEGIN:VEVENT
DTSTART;TZID=Europe/Paris:20260430T100000
DTEND;TZID=Europe/Paris:20260430T120000
DTSTAMP:20260423T005556
CREATED:20260409T180635Z
LAST-MODIFIED:20260413T132051Z
UID:2560-1777543200-1777550400@unionetributaristi.it
SUMMARY:Assemblea Nazionale Uni.T.I.
DESCRIPTION:Contenuto RiservatoQuesto evento è riservato agli associati Uni.T.I.Effettua il login per sbloccare i contenuti oppure richiedi l’iscrizione ad Uni.T.I. \n				\n				\n					\n						\n							Nome utente\n							\n						 \n						\n							Password\n							\n						 \n						Hai dimenticato la password? \n						\n							Accedi\n							\n						 \n					\n				\n			\n				\n				\n				\n				\n				L’Unione Tributaristi Italiani (Uni.T.I.) comunica la convocazione dell’Assemblea Nazionale degli associati\, che si terrà il 30 aprile 2026 in modalità streaming. \nL’Assemblea è convocata in prima convocazione alle ore 10:00 e\, occorrendo\, in seconda convocazione alle ore 11:00\, tramite piattaforma online\, il cui link verrà trasmesso agli associati nei tempi previsti dallo Statuto. \nL’incontro rappresenta un momento centrale nella vita associativa\, dedicato alla condivisione e approvazione delle principali linee gestionali ed economiche dell’Associazione. \nOrdine del giorno:1. Approvazione del rendiconto consuntivo 20252. Approvazione del rendiconto preventivo 20263. Varie ed eventuali \nIl Presidente Dott. Simone Germani invita tutti gli associati a partecipare\, sottolineando l’importanza degli argomenti trattati e il valore di un confronto attivo e consapevole. \nLa partecipazione all’Assemblea è fondamentale per contribuire alla crescita e alle decisioni strategiche di Uni.T.I. \n			\n				Dettagli evento
URL:https://unionetributaristi.it/evento/assemblea-nazionale-uni-t-i-2/
LOCATION:online
CATEGORIES:Convegno
ATTACH;FMTTYPE=image/jpeg:https://unionetributaristi.it/J2022/wp-content/uploads/2022/10/logo-uniti.jpg
END:VEVENT
END:VCALENDAR