BEGIN:VCALENDAR
VERSION:2.0
PRODID:-//Unione Tributaristi Italiani - ECPv6.10.1.1//NONSGML v1.0//EN
CALSCALE:GREGORIAN
METHOD:PUBLISH
X-ORIGINAL-URL:https://unionetributaristi.it
X-WR-CALDESC:Eventi per Unione Tributaristi Italiani
REFRESH-INTERVAL;VALUE=DURATION:PT1H
X-Robots-Tag:noindex
X-PUBLISHED-TTL:PT1H
BEGIN:VTIMEZONE
TZID:Europe/Paris
BEGIN:DAYLIGHT
TZOFFSETFROM:+0100
TZOFFSETTO:+0200
TZNAME:CEST
DTSTART:20240331T010000
END:DAYLIGHT
BEGIN:STANDARD
TZOFFSETFROM:+0200
TZOFFSETTO:+0100
TZNAME:CET
DTSTART:20241027T010000
END:STANDARD
END:VTIMEZONE
BEGIN:VEVENT
DTSTART;TZID=Europe/Paris:20240412T100000
DTEND;TZID=Europe/Paris:20240412T130000
DTSTAMP:20260422T155453
CREATED:20240408T130656Z
LAST-MODIFIED:20240408T132656Z
UID:1547-1712916000-1712926800@unionetributaristi.it
SUMMARY:Imprese e crescita  nel mercato globale
DESCRIPTION:Convegno in collaborazione con Confimprese Viterbo. \n  \n			\n				Dettagli evento\n			\n			\n				\n				\n				\n				\n				\n				\n				\n				\n				\n				\n			\n			\n				\n				\n				\n				\n			\n				\n				\n				\n				\n				\n				\n				\n				\n				\n				\n				Info e Iscrizioni\nEvento gratuito per gli associati Uni.T.I. (Scopri come iscriverti)Scrivi a comunicazioni@unionetributaristi.it o telefona al centralino unico 0776 1545696 per ricevere ulteriori informazioni e per partecipare.
URL:https://unionetributaristi.it/evento/imprese-e-crescita-nel-mercato-globale/
LOCATION:Auditorium Università della Tuscia\, Via Santa Maria in Gradi\, 4\, Viterbo\, 01100\, Italia
CATEGORIES:Convegno
ATTACH;FMTTYPE=image/jpeg:https://unionetributaristi.it/J2022/wp-content/uploads/2024/04/Copertina.jpg
END:VEVENT
END:VCALENDAR