BEGIN:VCALENDAR
VERSION:2.0
PRODID:-//Unione Tributaristi Italiani - ECPv6.10.1.1//NONSGML v1.0//EN
CALSCALE:GREGORIAN
METHOD:PUBLISH
X-WR-CALNAME:Unione Tributaristi Italiani
X-ORIGINAL-URL:https://unionetributaristi.it
X-WR-CALDESC:Eventi per Unione Tributaristi Italiani
REFRESH-INTERVAL;VALUE=DURATION:PT1H
X-Robots-Tag:noindex
X-PUBLISHED-TTL:PT1H
BEGIN:VTIMEZONE
TZID:Europe/Paris
BEGIN:DAYLIGHT
TZOFFSETFROM:+0100
TZOFFSETTO:+0200
TZNAME:CEST
DTSTART:20240331T010000
END:DAYLIGHT
BEGIN:STANDARD
TZOFFSETFROM:+0200
TZOFFSETTO:+0100
TZNAME:CET
DTSTART:20241027T010000
END:STANDARD
END:VTIMEZONE
BEGIN:VEVENT
DTSTART;TZID=Europe/Paris:20240712T100000
DTEND;TZID=Europe/Paris:20240712T133000
DTSTAMP:20260422T111838
CREATED:20240705T092007Z
LAST-MODIFIED:20240705T095053Z
UID:1684-1720778400-1720791000@unionetributaristi.it
SUMMARY:Riforma dello Sport per le ASD e Adempimenti obbligatori
DESCRIPTION:Si svolgerà il 12 luglio presso la Camera di Commercio di Rieti Viterbo\, il Convegno “Riforma dello Sport per le ASD e adempimenti obbligatori” organizzato da Comfimprese Viterbo e Uni.T.I. \nUn programma di lavori molto intenso che vedrà la partecipazione del dott. Giuseppe Cangemi\, Vice Presidente del Consiglio Regionale del Lazio\, del dott. Leopoldo Liberati\, Vice Sindaco di Tuscania e Vide Presidente di Uni.T.I.. \nSi farà il punto sulla Riforma dello Sport per le ASD e su come si sta integrando dalla sua entrata in vigore\, focalizzando l’attenzione sugli adempimenti obbligatori per i committenti nel mondo dilettantistico e in materia di tutela dei minori\, prevenzione del bullismo\, delle molestie e delle discriminazioni nel lavoro sportivo. \nInterverranno al dibattito\, moderato dal Rag. Gianfranco Piazzolla (Presidente Comfimprese Viterbo) e dal Rag. Mario Alberti (Segretario Comfimprese Viterbo):Dott. Riccardo Bizzarri\, Direttore Centro Studi Uni.T.I.\, Dott. Andrea Sebastiani\, Presidente Provinciale ASI Viterbo\, Dott. Lamberto Mattei\, Comfimprese Roma Capitale\, Dott.ssa Doriana Sannipola\, Comfimprese Umbria ed esperta di ETS\, Avv. Annunziata Staffieri\, Capo Processo Ispettorato territoriale del Lavoro di Viterbo\, Dott. Wladymiro Wysocki\, Responsabile del Dipartimento Sicurezza sul Lavoro UGL Lazio. \nL’evento ha ricevuto il Patrocinio di Giuffrè Francis Lefebvre\, Panathlon International e ASI Associazioni Sportive Sociali Italiane. \n			\n				\n				\n				\n				\n				L’evento è gratuito. Si prega di confermare la propria partecipazione inviando email a comunicazioni@unionetributaristi.it o telefonando al centralino unico 0776 1545696. \n			\n				\n				\n				\n				\n				I partecipanti all’evento che ne faranno richiesta\, otterranno 3 Crediti Formativi. \n			\n				Dettagli evento
URL:https://unionetributaristi.it/evento/riforma-dello-sport-per-le-asd-e-adempimenti-obbligatori/
LOCATION:Camera di Commercio di Viterbo\, Via Fratelli Rosselli\, 4\, Viterbo\, 01100\, Italia
CATEGORIES:Convegno
ATTACH;FMTTYPE=image/jpeg:https://unionetributaristi.it/J2022/wp-content/uploads/2024/07/convegno-confimprese-viterbo.jpg
END:VEVENT
END:VCALENDAR