BEGIN:VCALENDAR
VERSION:2.0
PRODID:-//Unione Tributaristi Italiani - ECPv6.10.1.1//NONSGML v1.0//EN
CALSCALE:GREGORIAN
METHOD:PUBLISH
X-ORIGINAL-URL:https://unionetributaristi.it
X-WR-CALDESC:Eventi per Unione Tributaristi Italiani
REFRESH-INTERVAL;VALUE=DURATION:PT1H
X-Robots-Tag:noindex
X-PUBLISHED-TTL:PT1H
BEGIN:VTIMEZONE
TZID:Europe/Paris
BEGIN:DAYLIGHT
TZOFFSETFROM:+0100
TZOFFSETTO:+0200
TZNAME:CEST
DTSTART:20240331T010000
END:DAYLIGHT
BEGIN:STANDARD
TZOFFSETFROM:+0200
TZOFFSETTO:+0100
TZNAME:CET
DTSTART:20241027T010000
END:STANDARD
END:VTIMEZONE
BEGIN:VEVENT
DTSTART;TZID=Europe/Paris:20241129T160000
DTEND;TZID=Europe/Paris:20241129T190000
DTSTAMP:20260422T040627
CREATED:20241030T111311Z
LAST-MODIFIED:20241128T124401Z
UID:1813-1732896000-1732906800@unionetributaristi.it
SUMMARY:Decreto sanzioni
DESCRIPTION:La tavola rotonda “Decreto sanzioni: dalla falsa fatturazione al processo penale tributario” organizzata da UNI.T.I. si terrà il 29 novembre 2024 all’Hotel Villa Ducale di Parma. \nL’evento\, accreditato dall’Ordine degli Avvocati di Parma\, vedrà i saluti istituzionali del Presidente di Uni.T.I.\, Dr. Simone Germani e la moderazione del Dr. Comm. Riccardo Bizzarri. Verranno approfondite le recenti modifiche introdotte dal D.Lgs n. 87 del 14.06.24\, con interventi di esperti in ambito tributario e legale. Temi trattati includeranno la falsa fatturazione\, il doppio binario del processo penale tributario e il sequestro preventivo. \nInterverranno:Dr.ssa Elisa Artosi (Segretario Nazionale UNI.T.I.) \nDr.ssa Margherita Solimando(Maggiore della Guardia di Finanza)Le investigazioni della Guardia di Finanza in tema di frodi fiscali: le differenti connotazioni delle false fatturazioni \nDr. Claudio Galdi (Capo Ufficio Imprese Medie – Direzione Regionale – Agenzia delle Entrate)Falsa fatturazione dall’emissione del PVC all’avviso di accertamento \nAvv. Alfredo Salzano (Avvocato del Foro di Salerno)Il ne bis in idem nei rapporti tra processo penale e processo tributario \nAvv. Giuseppe Rosafio (Consigliere della Camera Penale di Parma\, Avvocato del Foro di Parma)Sequestro e confisca diretta e per equivalente. Pagamento del debito tributario ed effetti sui reati tributari \nAvv. Jacopo Buriani (Avvocato del Foro di Ferrara)Onere della Prova e Responsabilità del Commercialista/Tributarista e dell’utilizzatore \nL’evento prevede l’assegnazione di 3 crediti formativi (anche dall’Ordine degli Avvocati di Parma) per i partecipanti che ne faranno richiesta. \n			\n				\n				\n				\n				\n				L’evento è gratuito. Per agevolare la procedura di iscrizione\, si prega di confermare la propria partecipazione inviando email con Nome e Cognome a comunicazioni@unionetributaristi.it o telefonando al centralino unico 0776 1545696. \n			\n				\n				\n				\n				\n				I partecipanti all’evento che ne faranno richiesta\, otterranno 3 Crediti Formativi. \n			\n				Dettagli evento
URL:https://unionetributaristi.it/evento/decreto-sanzioni/
LOCATION:Hotel Villa Ducale\, Via del Popolo\, 35\, Parma\, 43122\, Italia
CATEGORIES:Convegno
ATTACH;FMTTYPE=image/jpeg:https://unionetributaristi.it/J2022/wp-content/uploads/2024/10/29-11-parma.jpg
END:VEVENT
END:VCALENDAR