BEGIN:VCALENDAR
VERSION:2.0
PRODID:-//Unione Tributaristi Italiani - ECPv6.10.1.1//NONSGML v1.0//EN
CALSCALE:GREGORIAN
METHOD:PUBLISH
X-ORIGINAL-URL:https://unionetributaristi.it
X-WR-CALDESC:Eventi per Unione Tributaristi Italiani
REFRESH-INTERVAL;VALUE=DURATION:PT1H
X-Robots-Tag:noindex
X-PUBLISHED-TTL:PT1H
BEGIN:VTIMEZONE
TZID:Europe/Paris
BEGIN:DAYLIGHT
TZOFFSETFROM:+0100
TZOFFSETTO:+0200
TZNAME:CEST
DTSTART:20250330T010000
END:DAYLIGHT
BEGIN:STANDARD
TZOFFSETFROM:+0200
TZOFFSETTO:+0100
TZNAME:CET
DTSTART:20251026T010000
END:STANDARD
END:VTIMEZONE
BEGIN:VEVENT
DTSTART;TZID=Europe/Paris:20250708T100000
DTEND;TZID=Europe/Paris:20250708T120000
DTSTAMP:20260422T070148
CREATED:20250702T110008Z
LAST-MODIFIED:20250702T110353Z
UID:2341-1751968800-1751976000@unionetributaristi.it
SUMMARY:Il principio di continuità e gli assetti organizzativi: impatti sul controllo e sulla vigilanza
DESCRIPTION:Contenuto RiservatoQuesto evento è riservato agli associati Uni.T.I.Effettua il login per sbloccare i contenuti oppure richiedi l’iscrizione ad Uni.T.I. \n				\n				\n					\n						\n							Nome utente\n							\n						 \n						\n							Password\n							\n						 \n						Hai dimenticato la password? \n						\n							Accedi\n							\n						 \n					\n				\n			\n				\n				\n				\n				\n				Invitiamo i nostri associati a partecipare al webinar SEAC Cefor “L’intelligenza artificiale al servizio dei professionisti”\, in programma martedì 8 luglio 2025 alle ore 10:00 in live streaming. \nPrevenire la CRISI D’IMPRESA attraverso una corretta governance societaria.In questo evento gratuito approfondiremo il legame tra continuità aziendale\, principi contabili e assetti organizzativi adeguati\, con un focus sul ruolo chiave di Sindaci e Revisori. Scopriremo cosa prevede l’art. 2086 C.C.\, gli obblighi introdotti dal Codice della Crisi d’impresa e come gestire i doveri di vigilanza e segnalazione. \nRELATORE:Dott. Giancarlo Grossi \n			\n				Dettagli evento
URL:https://unionetributaristi.it/evento/il-principio-di-continuita-e-gli-assetti-organizzativi-impatti-sul-controllo-e-sulla-vigilanza/
LOCATION:online
CATEGORIES:Webinar
ATTACH;FMTTYPE=image/jpeg:https://unionetributaristi.it/J2022/wp-content/uploads/2022/10/logo-uniti.jpg
END:VEVENT
BEGIN:VEVENT
DTSTART;TZID=Europe/Paris:20250723T120000
DTEND;TZID=Europe/Paris:20250723T130000
DTSTAMP:20260422T070148
CREATED:20250721T153037Z
LAST-MODIFIED:20250721T153041Z
UID:2351-1753272000-1753275600@unionetributaristi.it
SUMMARY:Classificazione Attività Economiche: ATECO 86.96.01: Chinesiologia
DESCRIPTION:Contenuto RiservatoQuesto evento è riservato agli associati Uni.T.I.Effettua il login per sbloccare i contenuti oppure richiedi l’iscrizione ad Uni.T.I. \n				\n				\n					\n						\n							Nome utente\n							\n						 \n						\n							Password\n							\n						 \n						Hai dimenticato la password? \n						\n							Accedi\n							\n						 \n					\n				\n			\n				\n				\n				\n				\n				Mercoledì 23 luglio 2025\, dalle ore 12:00 alle 13:00\, Uni.T.I. in collaborazione con CISM organizza un incontro online dal titolo “ATECO 86.96.01 – Chinesiologia: inquadramento\, applicazioni e prospettive future”\, con la partecipazione dell’ISTAT – Istituto Nazionale di Statistica. \nL’incontro nasce dall’esigenza di fare chiarezza sull’applicazione del codice ATECO 86.96.01 nell’ambito delle attività svolte dai chinesiologi\, evidenziandone le potenzialità e le criticità. \nParteciperà all’incontro Dott. Comm. Riccardo Bizzarri\, Coordinatore Centro Studi Uni.T.I. \nUn momento di confronto istituzionale e tecnico rivolto ai professionisti del settore e ai tributaristi\, utile per comprendere l’attuale classificazione e le possibili evoluzioni normative e operative. \n			\n				Dettagli evento
URL:https://unionetributaristi.it/evento/classificazione-attivita-economiche-ateco-86-96-01-chinesiologia/
LOCATION:online
CATEGORIES:Webinar
ATTACH;FMTTYPE=image/png:https://unionetributaristi.it/J2022/wp-content/uploads/2025/07/Webinar-28-03-25.png
END:VEVENT
BEGIN:VEVENT
DTSTART;TZID=Europe/Paris:20250725T150000
DTEND;TZID=Europe/Paris:20250725T170000
DTSTAMP:20260422T070148
CREATED:20250620T125624Z
LAST-MODIFIED:20250707T111343Z
UID:2324-1753455600-1753462800@unionetributaristi.it
SUMMARY:L’intelligenza artificiale al servizio dei professionisti
DESCRIPTION:Contenuto RiservatoQuesto evento è riservato agli associati Uni.T.I.Effettua il login per sbloccare i contenuti oppure richiedi l’iscrizione ad Uni.T.I. \n				\n				\n					\n						\n							Nome utente\n							\n						 \n						\n							Password\n							\n						 \n						Hai dimenticato la password? \n						\n							Accedi\n							\n						 \n					\n				\n			\n				\n				\n				\n				\n				L’Unione dei Tributaristi Italiani (Uni.T.I.)\, in collaborazione con Soluzioni Fiscali\, invita i propri associati a partecipare al webinar “L’intelligenza artificiale al servizio dei professionisti”\, in programma venerdì 25 luglio 2025 alle ore 15:00 in live streaming e disponibile successivamente on-demand su unionetributaristi.it. \nIl relatore\, Dott. Roberto Forte\, commercialista esperto in tecnologie applicate alla professione\, guiderà i partecipanti nell’esplorazione delle potenzialità dell’AI applicata agli studi professionali: \n\nstrumenti utili per automatizzare attività ripetitive\nmiglioramento dell’efficienza e della gestione dei dati\nnuovi scenari operativi per commercialisti\, consulenti e tributaristi\n\nEvento dà diritto ad 1 credito formativo. \nUn’occasione concreta per aggiornarsi e affrontare con consapevolezza le sfide dell’innovazione. \n			\n				Dettagli evento
URL:https://unionetributaristi.it/evento/lintelligenza-artificiale-al-servizio-dei-professionisti/
LOCATION:online
CATEGORIES:Webinar
ATTACH;FMTTYPE=image/jpeg:https://unionetributaristi.it/J2022/wp-content/uploads/2025/06/Locandina_25-Lug_Uniti_Copertina-scaled.jpg
END:VEVENT
END:VCALENDAR