BEGIN:VCALENDAR
VERSION:2.0
PRODID:-//Unione Tributaristi Italiani - ECPv6.10.1.1//NONSGML v1.0//EN
CALSCALE:GREGORIAN
METHOD:PUBLISH
X-ORIGINAL-URL:https://unionetributaristi.it
X-WR-CALDESC:Eventi per Unione Tributaristi Italiani
REFRESH-INTERVAL;VALUE=DURATION:PT1H
X-Robots-Tag:noindex
X-PUBLISHED-TTL:PT1H
BEGIN:VTIMEZONE
TZID:Europe/Paris
BEGIN:DAYLIGHT
TZOFFSETFROM:+0100
TZOFFSETTO:+0200
TZNAME:CEST
DTSTART:20250330T010000
END:DAYLIGHT
BEGIN:STANDARD
TZOFFSETFROM:+0200
TZOFFSETTO:+0100
TZNAME:CET
DTSTART:20251026T010000
END:STANDARD
BEGIN:DAYLIGHT
TZOFFSETFROM:+0100
TZOFFSETTO:+0200
TZNAME:CEST
DTSTART:20260329T010000
END:DAYLIGHT
BEGIN:STANDARD
TZOFFSETFROM:+0200
TZOFFSETTO:+0100
TZNAME:CET
DTSTART:20261025T010000
END:STANDARD
END:VTIMEZONE
BEGIN:VEVENT
DTSTART;TZID=Europe/Paris:20250328T150000
DTEND;TZID=Europe/Paris:20250328T160000
DTSTAMP:20260422T235839
CREATED:20250322T090156Z
LAST-MODIFIED:20250327T153031Z
UID:2208-1743174000-1743177600@unionetributaristi.it
SUMMARY:Le modifiche normative nel Processo tributario
DESCRIPTION:Contenuto RiservatoQuesto evento è riservato agli associati Uni.T.I.Effettua il login per sbloccare i contenuti oppure richiedi l’iscrizione ad Uni.T.I. \n				\n				\n					\n						\n							Nome utente\n							\n						 \n						\n							Password\n							\n						 \n						Hai dimenticato la password? \n						\n							Accedi\n							\n						 \n					\n				\n			\n				\n				\n				\n				\n				Primo appuntamento del ciclo formativo con il Prof. Andrea Carinci\, Ordinario dell’Università di Bologna\, dedicato alle modifiche al processo tributario. \nVenerdì 28 marzo 2025\, ore 15:00\, il webinar approfondirà le recenti riforme del contenzioso tributario\, analizzando: \n\nLe principali novità normative nel processo tributario e i loro effetti sulla difesa del contribuente\nL’evoluzione dello Statuto del Contribuente e il rafforzamento delle tutele\nLa nullità degli atti tributari: casistiche\, giurisprudenza e strategie difensive\n\nUn’occasione unica per approfondire i cambiamenti normativi e le loro implicazioni pratiche\, con il contributo di uno dei massimi esperti del settore. \n			\n				Dettagli evento
URL:https://unionetributaristi.it/evento/le-modifiche-normative-nel-processo-tributario/
LOCATION:online
CATEGORIES:Webinar
ATTACH;FMTTYPE=image/png:https://unionetributaristi.it/J2022/wp-content/uploads/2025/03/Webinar-28-03-25.png
END:VEVENT
BEGIN:VEVENT
DTSTART;TZID=Europe/Paris:20250401T150000
DTEND;TZID=Europe/Paris:20250401T180000
DTSTAMP:20260422T235839
CREATED:20250203T172346Z
LAST-MODIFIED:20250304T110131Z
UID:2052-1743519600-1743530400@unionetributaristi.it
SUMMARY:Il Modello 730/2025: Novità E Criticità
DESCRIPTION:Contenuto RiservatoQuesto evento è riservato agli associati Uni.T.I.Effettua il login per sbloccare i contenuti oppure richiedi l’iscrizione ad Uni.T.I. \n				\n				\n					\n						\n							Nome utente\n							\n						 \n						\n							Password\n							\n						 \n						Hai dimenticato la password? \n						\n							Accedi\n							\n						 \n					\n				\n			\n				\n				\n				\n				\n				L’Unione dei Tributaristi Italiani (UNI.T.I.) invita i propri associati a partecipare gratuitamente al webinar dedicato al Modello 730/2025\, un approfondimento sulle principali novità normative\, casi pratici e criticità operative. \nDurante il webinar verranno trattati i seguenti argomenti: \n\nNovità del Modello 730/2025 e aggiornamenti normativi\nEsempi di compilazione per redditi fondiari (Quadri A e B)\, redditi da lavoro dipendente (Quadro C)\, altri redditi (Quadro D)\, crediti d’imposta (Quadro G)\nAnalisi dettagliata del Quadro E: detrazioni per spese sanitarie\, mutui\, assicurazioni\, locazioni\, ristrutturazioni edilizie\, risparmio energetico\, mobili ed elettrodomestici\nOneri deducibili ricorrenti: contributi previdenziali\, assegni di mantenimento\, spese per disabili\, previdenza complementare\nCompensazioni dei crediti erariali nel Modello 730\nAssistenza fiscale e visto di conformità: sanzioni\, ravvedimento\, dichiarazioni integrative\nGestione del 730 precompilato\, utilizzo della Piattaforma CAF 2025 e gestione delle deleghe\nRegolamento UE 2016/679 e trattamento dati\n\nL’evento si concluderà con una sessione di domande e risposte. \nData: 1 aprile 2025\, ore 15:00 CET \n			\n				Dettagli evento
URL:https://unionetributaristi.it/evento/il-modello-730-2025-novita-e-criticita-2/
LOCATION:online
CATEGORIES:Webinar
ATTACH;FMTTYPE=image/png:https://unionetributaristi.it/J2022/wp-content/uploads/2025/02/evento-uniti-tributaristi00003.png
END:VEVENT
BEGIN:VEVENT
DTSTART;TZID=Europe/Paris:20250409T093000
DTEND;TZID=Europe/Paris:20250409T123000
DTSTAMP:20260422T235839
CREATED:20250203T172455Z
LAST-MODIFIED:20250203T172458Z
UID:2054-1744191000-1744201800@unionetributaristi.it
SUMMARY:Il Modello 730/2025: Novità E Criticità
DESCRIPTION:Contenuto RiservatoQuesto evento è riservato agli associati Uni.T.I.Effettua il login per sbloccare i contenuti oppure richiedi l’iscrizione ad Uni.T.I. \n				\n				\n					\n						\n							Nome utente\n							\n						 \n						\n							Password\n							\n						 \n						Hai dimenticato la password? \n						\n							Accedi\n							\n						 \n					\n				\n			\n				\n				\n				\n				\n				IL MODELLO 730/2025: NOVITÀ E CRITICITÀ \nlun 24 mar 2025 9.30 – 12.30 CET \nArgomenti affrontati: \n• Le novità del modello;• Esempi di compilazione dei quadri in presenza di: redditi fondiari;• quadro A e B\, redditi di lavoro dipendente – quadro C\, altri redditi;• quadro D\, crediti d’imposta;• quadro G;• Il quadro E: casi di studio e analisi degli oneri detraibili ricorrenti: spese sanitarie\, mutui ipotecari\, assicurazioni\, canoni di locazione\, detraz. sulle ristrutturazioni edilizie e risparmio energetico\, detrazione mobili ed elettrodomestici;• casi di studio e analisi degli oneri deducibili ricorrenti: contributi previdenziali\, assegni di mantenimento\, contributi addetti ai servizi domestici e familiari\, spese per disabili\, previdenza complementare;• Le compensazioni dei crediti erariali nel modello 730;• Assistenza fiscale e visto di conformità: – sanzioni e ravvedimento – dichiarazioni integrative. \n• Il prelievo del 730 precompilato è fondamentale;• Piattaforma CAF 2025;• Gestione delle deleghe CAF;• Reg. UE 2016/679 e trattamento dati;• domande;• saluti. \n			\n				Dettagli evento
URL:https://unionetributaristi.it/evento/il-modello-730-2025-novita-e-criticita-3/
LOCATION:online
CATEGORIES:Webinar
ATTACH;FMTTYPE=image/png:https://unionetributaristi.it/J2022/wp-content/uploads/2025/02/evento-uniti-tributaristi00003.png
END:VEVENT
BEGIN:VEVENT
DTSTART;TZID=Europe/Paris:20250415T100000
DTEND;TZID=Europe/Paris:20250415T123000
DTSTAMP:20260422T235839
CREATED:20250203T172634Z
LAST-MODIFIED:20250203T172637Z
UID:2056-1744711200-1744720200@unionetributaristi.it
SUMMARY:Le Prestazioni Legate Alla Genitorialità
DESCRIPTION:Contenuto RiservatoQuesto evento è riservato agli associati Uni.T.I.Effettua il login per sbloccare i contenuti oppure richiedi l’iscrizione ad Uni.T.I. \n				\n				\n					\n						\n							Nome utente\n							\n						 \n						\n							Password\n							\n						 \n						Hai dimenticato la password? \n						\n							Accedi\n							\n						 \n					\n				\n			\n				\n				\n				\n				\n				LE PRESTAZIONI LEGATE ALLA GENITORIALITÀ \nmar 15 apr 2025 10.00 – 12.30 CEST \nArgomenti affrontati: \n• Agevolazioni under 35;• agevolazioni donne;• zone zees. \n• Assegno unico;• bonus per figli;• domande;• saluti. \n			\n				Dettagli evento
URL:https://unionetributaristi.it/evento/le-prestazioni-legate-alla-genitorialita/
LOCATION:online
CATEGORIES:Webinar
ATTACH;FMTTYPE=image/png:https://unionetributaristi.it/J2022/wp-content/uploads/2025/02/evento-uniti-tributaristi00006.png
END:VEVENT
BEGIN:VEVENT
DTSTART;TZID=Europe/Paris:20250429T150000
DTEND;TZID=Europe/Paris:20250429T170000
DTSTAMP:20260422T235839
CREATED:20250418T122438Z
LAST-MODIFIED:20250428T123143Z
UID:2258-1745938800-1745946000@unionetributaristi.it
SUMMARY:Rottamazione e rateizzazione 2025: Formazione Smart con TEO
DESCRIPTION:Contenuto RiservatoQuesto evento è riservato agli associati Uni.T.I.Effettua il login per sbloccare i contenuti oppure richiedi l’iscrizione ad Uni.T.I. \n				\n				\n					\n						\n							Nome utente\n							\n						 \n						\n							Password\n							\n						 \n						Hai dimenticato la password? \n						\n							Accedi\n							\n						 \n					\n				\n			\n				\n				\n				\n				\n				Vi invitiamo a partecipare all’evento live del 29 aprile 2025 alle ore 15:00\, dedicato alle novità sulla Rottamazione e sulla nuova Rateizzazione 2025. \nDurante il webinar\, a cura del Dott. Antonio Gigliotti\, Direttore di Fiscal Focus\, verranno analizzati in dettaglio: \n\nRiammissione alla Rottamazione-quater (scadenza 30 aprile 2025): requisiti\, presentazione della domanda\, effetti sulle procedure esecutive e risposte ai dubbi operativi\nNuove regole per la rateazione delle cartelle in vigore dal 1° gennaio 2025: differenze tra rateazione ordinaria e documentata\, requisiti\, modalità di calcolo\, decadenza e riammissione\nEsclusioni e utilizzo dei crediti d’imposta\n\nL’incontro sarà reso ancora più interattivo grazie all’uso di TEO\, l’assistente virtuale di Fiscal Focus\, che guiderà i partecipanti con esempi pratici\, simulazioni e risposte in tempo reale ai quesiti più frequenti. \nUn’occasione formativa innovativa e concreta\, pensata per offrire strumenti operativi immediatamente utili nella pratica quotidiana.Non mancare! \n			\n				Dettagli evento
URL:https://unionetributaristi.it/evento/rottamazione-e-rateizzazione-2025-formazione-smart-con-teo/
LOCATION:online
CATEGORIES:Webinar
ATTACH;FMTTYPE=image/png:https://unionetributaristi.it/J2022/wp-content/uploads/2025/04/Copertina.png
END:VEVENT
BEGIN:VEVENT
DTSTART;TZID=Europe/Paris:20250505T093000
DTEND;TZID=Europe/Paris:20250505T123000
DTSTAMP:20260422T235839
CREATED:20250203T172815Z
LAST-MODIFIED:20250203T172818Z
UID:2060-1746437400-1746448200@unionetributaristi.it
SUMMARY:Patrimoni Esteri E Relativa Gestione
DESCRIPTION:Contenuto RiservatoQuesto evento è riservato agli associati Uni.T.I.Effettua il login per sbloccare i contenuti oppure richiedi l’iscrizione ad Uni.T.I. \n				\n				\n					\n						\n							Nome utente\n							\n						 \n						\n							Password\n							\n						 \n						Hai dimenticato la password? \n						\n							Accedi\n							\n						 \n					\n				\n			\n				\n				\n				\n				\n				PATRIMONI ESTERI E RELATIVA GESTIONE \nlun 5 mag 2025 9.30 – 12.30 CEST \nArgomenti affrontati: \n• Detenzione del patrimonio estero e implicazioni dichiarative;• Controlli documentali da eseguire;• Monitoraggio fiscale e compilazione del quadro RW;• Liquidazione delle imposte patrimoniali;• Gestione reddituale collegata agli investimenti esteri;• Ravvedimento operoso delle sanzioni sul monitoraggio fiscale;• domande;• saluti. \n			\n				Dettagli evento
URL:https://unionetributaristi.it/evento/patrimoni-esteri-e-relativa-gestione/
LOCATION:online
CATEGORIES:Webinar
ATTACH;FMTTYPE=image/png:https://unionetributaristi.it/J2022/wp-content/uploads/2025/02/evento-uniti-tributaristi00002.png
END:VEVENT
BEGIN:VEVENT
DTSTART;TZID=Europe/Paris:20250708T100000
DTEND;TZID=Europe/Paris:20250708T120000
DTSTAMP:20260422T235839
CREATED:20250702T110008Z
LAST-MODIFIED:20250702T110353Z
UID:2341-1751968800-1751976000@unionetributaristi.it
SUMMARY:Il principio di continuità e gli assetti organizzativi: impatti sul controllo e sulla vigilanza
DESCRIPTION:Contenuto RiservatoQuesto evento è riservato agli associati Uni.T.I.Effettua il login per sbloccare i contenuti oppure richiedi l’iscrizione ad Uni.T.I. \n				\n				\n					\n						\n							Nome utente\n							\n						 \n						\n							Password\n							\n						 \n						Hai dimenticato la password? \n						\n							Accedi\n							\n						 \n					\n				\n			\n				\n				\n				\n				\n				Invitiamo i nostri associati a partecipare al webinar SEAC Cefor “L’intelligenza artificiale al servizio dei professionisti”\, in programma martedì 8 luglio 2025 alle ore 10:00 in live streaming. \nPrevenire la CRISI D’IMPRESA attraverso una corretta governance societaria.In questo evento gratuito approfondiremo il legame tra continuità aziendale\, principi contabili e assetti organizzativi adeguati\, con un focus sul ruolo chiave di Sindaci e Revisori. Scopriremo cosa prevede l’art. 2086 C.C.\, gli obblighi introdotti dal Codice della Crisi d’impresa e come gestire i doveri di vigilanza e segnalazione. \nRELATORE:Dott. Giancarlo Grossi \n			\n				Dettagli evento
URL:https://unionetributaristi.it/evento/il-principio-di-continuita-e-gli-assetti-organizzativi-impatti-sul-controllo-e-sulla-vigilanza/
LOCATION:online
CATEGORIES:Webinar
ATTACH;FMTTYPE=image/jpeg:https://unionetributaristi.it/J2022/wp-content/uploads/2022/10/logo-uniti.jpg
END:VEVENT
BEGIN:VEVENT
DTSTART;TZID=Europe/Paris:20250723T120000
DTEND;TZID=Europe/Paris:20250723T130000
DTSTAMP:20260422T235839
CREATED:20250721T153037Z
LAST-MODIFIED:20250721T153041Z
UID:2351-1753272000-1753275600@unionetributaristi.it
SUMMARY:Classificazione Attività Economiche: ATECO 86.96.01: Chinesiologia
DESCRIPTION:Contenuto RiservatoQuesto evento è riservato agli associati Uni.T.I.Effettua il login per sbloccare i contenuti oppure richiedi l’iscrizione ad Uni.T.I. \n				\n				\n					\n						\n							Nome utente\n							\n						 \n						\n							Password\n							\n						 \n						Hai dimenticato la password? \n						\n							Accedi\n							\n						 \n					\n				\n			\n				\n				\n				\n				\n				Mercoledì 23 luglio 2025\, dalle ore 12:00 alle 13:00\, Uni.T.I. in collaborazione con CISM organizza un incontro online dal titolo “ATECO 86.96.01 – Chinesiologia: inquadramento\, applicazioni e prospettive future”\, con la partecipazione dell’ISTAT – Istituto Nazionale di Statistica. \nL’incontro nasce dall’esigenza di fare chiarezza sull’applicazione del codice ATECO 86.96.01 nell’ambito delle attività svolte dai chinesiologi\, evidenziandone le potenzialità e le criticità. \nParteciperà all’incontro Dott. Comm. Riccardo Bizzarri\, Coordinatore Centro Studi Uni.T.I. \nUn momento di confronto istituzionale e tecnico rivolto ai professionisti del settore e ai tributaristi\, utile per comprendere l’attuale classificazione e le possibili evoluzioni normative e operative. \n			\n				Dettagli evento
URL:https://unionetributaristi.it/evento/classificazione-attivita-economiche-ateco-86-96-01-chinesiologia/
LOCATION:online
CATEGORIES:Webinar
ATTACH;FMTTYPE=image/png:https://unionetributaristi.it/J2022/wp-content/uploads/2025/07/Webinar-28-03-25.png
END:VEVENT
BEGIN:VEVENT
DTSTART;TZID=Europe/Paris:20250725T150000
DTEND;TZID=Europe/Paris:20250725T170000
DTSTAMP:20260422T235839
CREATED:20250620T125624Z
LAST-MODIFIED:20250707T111343Z
UID:2324-1753455600-1753462800@unionetributaristi.it
SUMMARY:L’intelligenza artificiale al servizio dei professionisti
DESCRIPTION:Contenuto RiservatoQuesto evento è riservato agli associati Uni.T.I.Effettua il login per sbloccare i contenuti oppure richiedi l’iscrizione ad Uni.T.I. \n				\n				\n					\n						\n							Nome utente\n							\n						 \n						\n							Password\n							\n						 \n						Hai dimenticato la password? \n						\n							Accedi\n							\n						 \n					\n				\n			\n				\n				\n				\n				\n				L’Unione dei Tributaristi Italiani (Uni.T.I.)\, in collaborazione con Soluzioni Fiscali\, invita i propri associati a partecipare al webinar “L’intelligenza artificiale al servizio dei professionisti”\, in programma venerdì 25 luglio 2025 alle ore 15:00 in live streaming e disponibile successivamente on-demand su unionetributaristi.it. \nIl relatore\, Dott. Roberto Forte\, commercialista esperto in tecnologie applicate alla professione\, guiderà i partecipanti nell’esplorazione delle potenzialità dell’AI applicata agli studi professionali: \n\nstrumenti utili per automatizzare attività ripetitive\nmiglioramento dell’efficienza e della gestione dei dati\nnuovi scenari operativi per commercialisti\, consulenti e tributaristi\n\nEvento dà diritto ad 1 credito formativo. \nUn’occasione concreta per aggiornarsi e affrontare con consapevolezza le sfide dell’innovazione. \n			\n				Dettagli evento
URL:https://unionetributaristi.it/evento/lintelligenza-artificiale-al-servizio-dei-professionisti/
LOCATION:online
CATEGORIES:Webinar
ATTACH;FMTTYPE=image/jpeg:https://unionetributaristi.it/J2022/wp-content/uploads/2025/06/Locandina_25-Lug_Uniti_Copertina-scaled.jpg
END:VEVENT
BEGIN:VEVENT
DTSTART;TZID=Europe/Paris:20260210T110000
DTEND;TZID=Europe/Paris:20260210T120000
DTSTAMP:20260422T235839
CREATED:20260210T103332Z
LAST-MODIFIED:20260210T103335Z
UID:2503-1770721200-1770724800@unionetributaristi.it
SUMMARY:Legge di Bilancio 2026\, riforma fiscale e ultilizzo piattaforma CAF
DESCRIPTION:Contenuto RiservatoQuesto evento è riservato agli associati Uni.T.I.Effettua il login per sbloccare i contenuti oppure richiedi l’iscrizione ad Uni.T.I. \n				\n				\n					\n						\n							Nome utente\n							\n						 \n						\n							Password\n							\n						 \n						Hai dimenticato la password? \n						\n							Accedi\n							\n						 \n					\n				\n			\n				\n				\n				\n				\n				\nAvv. Costarelli – Data Protection Officer CAF TFDC \n\n\n\n\n \n\n\n\n			\n				Dettagli evento
URL:https://unionetributaristi.it/evento/legge-di-bilancio-2026-riforma-fiscale-e-ultilizzo-piattaforma-caf-2/
LOCATION:online
CATEGORIES:Webinar
ATTACH;FMTTYPE=image/jpeg:https://unionetributaristi.it/J2022/wp-content/uploads/2022/10/logo-uniti.jpg
END:VEVENT
BEGIN:VEVENT
DTSTART;TZID=Europe/Paris:20260220T150000
DTEND;TZID=Europe/Paris:20260220T170000
DTSTAMP:20260422T235839
CREATED:20260206T093533Z
LAST-MODIFIED:20260218T190834Z
UID:2488-1771599600-1771606800@unionetributaristi.it
SUMMARY:Legge di Bilancio 2026\, riforma fiscale e ultilizzo piattaforma CAF
DESCRIPTION:Contenuto RiservatoQuesto evento è riservato agli associati Uni.T.I.Effettua il login per sbloccare i contenuti oppure richiedi l’iscrizione ad Uni.T.I. \n				\n				\n					\n						\n							Nome utente\n							\n						 \n						\n							Password\n							\n						 \n						Hai dimenticato la password? \n						\n							Accedi\n							\n						 \n					\n				\n			\n				\n				\n				\n				\n				Il 20 febbraio 2026 Uni.T.I. propone un webinar in diretta per fare il punto sulle novità introdotte dalla Legge di Bilancio 2026 e dagli interventi della riforma fiscale attualmente in vigore.Un focus operativo sarà inoltre dedicato all’utilizzo della piattaforma CAF SFUC\, utile strumento per la gestione pratica delle dichiarazioni e degli adempimenti. \nRelatori:– Dott. Simone Germani\, Presidente Uni.T.I.– Dott.ssa Gemma Delfino\, Dottore Commercialista– Dott. Claudio Ferro\, Presidente CAF SFUC \nQuando: martedì 20 febbraio 2026\, ore 15.00Dove: Webinar in direttaCrediti formativi: 2 \n			\n				Dettagli evento
URL:https://unionetributaristi.it/evento/legge-di-bilancio-2026-riforma-fiscale-e-ultilizzo-piattaforma-caf/
LOCATION:online
CATEGORIES:Webinar
ATTACH;FMTTYPE=image/png:https://unionetributaristi.it/J2022/wp-content/uploads/2026/02/20.02.26.png
END:VEVENT
BEGIN:VEVENT
DTSTART;TZID=Europe/Paris:20260311T150000
DTEND;TZID=Europe/Paris:20260311T170000
DTSTAMP:20260422T235839
CREATED:20260213T100752Z
LAST-MODIFIED:20260318T095410Z
UID:2506-1773241200-1773248400@unionetributaristi.it
SUMMARY:Disciplina IVA dei Generi di Monopolio
DESCRIPTION:Contenuto RiservatoQuesto evento è riservato agli associati Uni.T.I.Effettua il login per sbloccare i contenuti oppure richiedi l’iscrizione ad Uni.T.I. \n				\n				\n					\n						\n							Nome utente\n							\n						 \n						\n							Password\n							\n						 \n						Hai dimenticato la password? \n						\n							Accedi\n							\n						 \n					\n				\n			\n				\n				\n				\n				\n				L’11 marzo 2026 Uni.T.I. propone un webinar in diretta con la Dott.ssa Barbara Bissacco\, interamente dedicato alla disciplina IVA applicabile ai generi di monopolio.Un’occasione per approfondire un tema tecnico e spesso trascurato\, ma fondamentale per la corretta gestione contabile e fiscale di attività specifiche. \nQuando: martedì 11 marzo 2026\, ore 15.00Dove: Webinar in direttaCrediti formativi: 1 \n			\n				Dettagli evento
URL:https://unionetributaristi.it/evento/disciplina-iva-dei-generi-di-monopolio/
LOCATION:online
CATEGORIES:Webinar
ATTACH;FMTTYPE=image/png:https://unionetributaristi.it/J2022/wp-content/uploads/2026/02/Webinar-11-03-26.png
END:VEVENT
BEGIN:VEVENT
DTSTART;TZID=Europe/Paris:20260318T150000
DTEND;TZID=Europe/Paris:20260318T170000
DTSTAMP:20260422T235839
CREATED:20260213T101203Z
LAST-MODIFIED:20260316T152513Z
UID:2511-1773846000-1773853200@unionetributaristi.it
SUMMARY:Gestione dei Giochi Pubblici e delle Scommesse
DESCRIPTION:Contenuto RiservatoQuesto evento è riservato agli associati Uni.T.I.Effettua il login per sbloccare i contenuti oppure richiedi l’iscrizione ad Uni.T.I. \n				\n				\n					\n						\n							Nome utente\n							\n						 \n						\n							Password\n							\n						 \n						Hai dimenticato la password? \n						\n							Accedi\n							\n						 \n					\n				\n			\n				\n				\n				\n				\n				Uni.T.I. propone un webinar tecnico dedicato alla gestione fiscale e contabile del settore dei giochi pubblici e delle scommesse. La Dott.ssa Barbara Bissacco analizzerà il quadro normativo e operativo\, offrendo strumenti pratici per una corretta gestione degli adempimenti. \nTra i temi trattati: \n\nIl gioco d’azzardo in Italia e il contesto normativo\nIl regime di esenzione IVA per giochi pubblici e scommesse\nEsempi di rilevazione contabile e pro-rata di detraibilità\nRapporti con le imposte sostitutive\nProfili di responsabilità sociale e contrasto alla ludopatia\n\nQuando: 18 marzo 2026\, ore 15:00Dove: webinar in diretta onlineCrediti formativi: 1 \nUn approfondimento utile per i professionisti che assistono operatori del settore e desiderano operare con maggiore consapevolezza normativa. \n			\n				Dettagli evento
URL:https://unionetributaristi.it/evento/gestione-dei-giochi-pubblici-e-delle-scommesse/
LOCATION:online
CATEGORIES:Webinar
ATTACH;FMTTYPE=image/png:https://unionetributaristi.it/J2022/wp-content/uploads/2026/02/Webinar-18-03-26.png
END:VEVENT
END:VCALENDAR