BEGIN:VCALENDAR
VERSION:2.0
PRODID:-//Unione Tributaristi Italiani - ECPv6.10.1.1//NONSGML v1.0//EN
CALSCALE:GREGORIAN
METHOD:PUBLISH
X-WR-CALNAME:Unione Tributaristi Italiani
X-ORIGINAL-URL:https://unionetributaristi.it
X-WR-CALDESC:Eventi per Unione Tributaristi Italiani
REFRESH-INTERVAL;VALUE=DURATION:PT1H
X-Robots-Tag:noindex
X-PUBLISHED-TTL:PT1H
BEGIN:VTIMEZONE
TZID:Europe/Paris
BEGIN:DAYLIGHT
TZOFFSETFROM:+0100
TZOFFSETTO:+0200
TZNAME:CEST
DTSTART:20250330T010000
END:DAYLIGHT
BEGIN:STANDARD
TZOFFSETFROM:+0200
TZOFFSETTO:+0100
TZNAME:CET
DTSTART:20251026T010000
END:STANDARD
END:VTIMEZONE
BEGIN:VEVENT
DTSTART;TZID=Europe/Paris:20250723T120000
DTEND;TZID=Europe/Paris:20250723T130000
DTSTAMP:20260422T083745
CREATED:20250721T153037Z
LAST-MODIFIED:20250721T153041Z
UID:2351-1753272000-1753275600@unionetributaristi.it
SUMMARY:Classificazione Attività Economiche: ATECO 86.96.01: Chinesiologia
DESCRIPTION:Contenuto RiservatoQuesto evento è riservato agli associati Uni.T.I.Effettua il login per sbloccare i contenuti oppure richiedi l’iscrizione ad Uni.T.I. \n				\n				\n					\n						\n							Nome utente\n							\n						 \n						\n							Password\n							\n						 \n						Hai dimenticato la password? \n						\n							Accedi\n							\n						 \n					\n				\n			\n				\n				\n				\n				\n				Mercoledì 23 luglio 2025\, dalle ore 12:00 alle 13:00\, Uni.T.I. in collaborazione con CISM organizza un incontro online dal titolo “ATECO 86.96.01 – Chinesiologia: inquadramento\, applicazioni e prospettive future”\, con la partecipazione dell’ISTAT – Istituto Nazionale di Statistica. \nL’incontro nasce dall’esigenza di fare chiarezza sull’applicazione del codice ATECO 86.96.01 nell’ambito delle attività svolte dai chinesiologi\, evidenziandone le potenzialità e le criticità. \nParteciperà all’incontro Dott. Comm. Riccardo Bizzarri\, Coordinatore Centro Studi Uni.T.I. \nUn momento di confronto istituzionale e tecnico rivolto ai professionisti del settore e ai tributaristi\, utile per comprendere l’attuale classificazione e le possibili evoluzioni normative e operative. \n			\n				Dettagli evento
URL:https://unionetributaristi.it/evento/classificazione-attivita-economiche-ateco-86-96-01-chinesiologia/
LOCATION:online
CATEGORIES:Webinar
ATTACH;FMTTYPE=image/png:https://unionetributaristi.it/J2022/wp-content/uploads/2025/07/Webinar-28-03-25.png
END:VEVENT
END:VCALENDAR