BEGIN:VCALENDAR
VERSION:2.0
PRODID:-//Unione Tributaristi Italiani - ECPv6.10.1.1//NONSGML v1.0//EN
CALSCALE:GREGORIAN
METHOD:PUBLISH
X-ORIGINAL-URL:https://unionetributaristi.it
X-WR-CALDESC:Eventi per Unione Tributaristi Italiani
REFRESH-INTERVAL;VALUE=DURATION:PT1H
X-Robots-Tag:noindex
X-PUBLISHED-TTL:PT1H
BEGIN:VTIMEZONE
TZID:Europe/Paris
BEGIN:DAYLIGHT
TZOFFSETFROM:+0100
TZOFFSETTO:+0200
TZNAME:CEST
DTSTART:20260329T010000
END:DAYLIGHT
BEGIN:STANDARD
TZOFFSETFROM:+0200
TZOFFSETTO:+0100
TZNAME:CET
DTSTART:20261025T010000
END:STANDARD
END:VTIMEZONE
BEGIN:VEVENT
DTSTART;TZID=Europe/Paris:20260311T150000
DTEND;TZID=Europe/Paris:20260311T170000
DTSTAMP:20260421T195558
CREATED:20260213T100752Z
LAST-MODIFIED:20260318T095410Z
UID:2506-1773241200-1773248400@unionetributaristi.it
SUMMARY:Disciplina IVA dei Generi di Monopolio
DESCRIPTION:Contenuto RiservatoQuesto evento è riservato agli associati Uni.T.I.Effettua il login per sbloccare i contenuti oppure richiedi l’iscrizione ad Uni.T.I. \n				\n				\n					\n						\n							Nome utente\n							\n						 \n						\n							Password\n							\n						 \n						Hai dimenticato la password? \n						\n							Accedi\n							\n						 \n					\n				\n			\n				\n				\n				\n				\n				L’11 marzo 2026 Uni.T.I. propone un webinar in diretta con la Dott.ssa Barbara Bissacco\, interamente dedicato alla disciplina IVA applicabile ai generi di monopolio.Un’occasione per approfondire un tema tecnico e spesso trascurato\, ma fondamentale per la corretta gestione contabile e fiscale di attività specifiche. \nQuando: martedì 11 marzo 2026\, ore 15.00Dove: Webinar in direttaCrediti formativi: 1 \n			\n				Dettagli evento
URL:https://unionetributaristi.it/evento/disciplina-iva-dei-generi-di-monopolio/
LOCATION:online
CATEGORIES:Webinar
ATTACH;FMTTYPE=image/png:https://unionetributaristi.it/J2022/wp-content/uploads/2026/02/Webinar-11-03-26.png
END:VEVENT
END:VCALENDAR